BEGIN:VCALENDAR
VERSION:2.0
PRODID:-//Plone.org//NONSGML plone.app.event//EN
X-WR-TIMEZONE:Brazil/East
BEGIN:VEVENT
SUMMARY:SESSÃO ESPECIAL EM HOMENAGEM AO DIA DA COMUNICADOR SOCIAL.
DTSTART;TZID=Brazil/East;VALUE=DATE-TIME:20200423T193000
DTEND;TZID=Brazil/East;VALUE=DATE-TIME:20200423T220000
DTSTAMP;VALUE=DATE-TIME:20260420T103146Z
UID:ec0f1433a9214c52946fc23e792c037d@www.goiania.go.leg.br
CONTACT:VEREADORA DRA. CRISTINA LOPES AFONSO
CREATED;VALUE=DATE-TIME:20200210T133822Z
LAST-MODIFIED;VALUE=DATE-TIME:20200210T134025Z
LOCATION:P
URL:https://www.goiania.go.leg.br/sala-de-imprensa/eventos/sessao-especial
 -em-homenagem-ao-dia-da-comunicador-social
END:VEVENT
BEGIN:VTIMEZONE
TZID:Brazil/East
X-LIC-LOCATION:Brazil/East
BEGIN:STANDARD
DTSTART;VALUE=DATE-TIME:20200215T230000
TZNAME:BRT
TZOFFSETFROM:-0200
TZOFFSETTO:-0300
END:STANDARD
END:VTIMEZONE
END:VCALENDAR
