BEGIN:VCALENDAR
VERSION:2.0
PRODID:-//Plone.org//NONSGML plone.app.event//EN
X-WR-TIMEZONE:Brazil/East
BEGIN:VEVENT
SUMMARY:SESSÃO ESPECIAL EM HOMENAGEM  AO DIA DA BELEZA.
DTSTART;TZID=Brazil/East;VALUE=DATE-TIME:20260506T190000
DTEND;TZID=Brazil/East;VALUE=DATE-TIME:20260506T220000
DTSTAMP;VALUE=DATE-TIME:20260420T155307Z
UID:3a35422d0f0345d693e77e758b51c44c@www.goiania.go.leg.br
CONTACT:VEREADOR TIÃO PEIXOTO
CREATED;VALUE=DATE-TIME:20260310T115051Z
LAST-MODIFIED;VALUE=DATE-TIME:20260310T115153Z
LOCATION:AUDITÓRIO JAIME CÂMARA
URL:https://www.goiania.go.leg.br/sala-de-imprensa/eventos/sessao-especial
 -em-homenagem-ao-dia-da-beleza-2
END:VEVENT
BEGIN:VTIMEZONE
TZID:Brazil/East
X-LIC-LOCATION:Brazil/East
BEGIN:STANDARD
DTSTART;VALUE=DATE-TIME:20260221T230000
TZNAME:BRT
TZOFFSETFROM:-0200
TZOFFSETTO:-0300
END:STANDARD
END:VTIMEZONE
END:VCALENDAR
