BEGIN:VCALENDAR
VERSION:2.0
PRODID:-//Plone.org//NONSGML plone.app.event//EN
X-WR-TIMEZONE:Brazil/East
BEGIN:VEVENT
SUMMARY:SESSÃO ESPECIAL EM HOMENAGEM AO DIA DA ADOÇÃO.
DTSTART;TZID=Brazil/East;VALUE=DATE-TIME:20250512T090000
DTEND;TZID=Brazil/East;VALUE=DATE-TIME:20250512T120000
DTSTAMP;VALUE=DATE-TIME:20260420T082247Z
UID:8029371406ed49b7b8a923e87397db7c@www.goiania.go.leg.br
CONTACT:VEREADORA DANIELA DA GILKA E DENÍSIO TRINDADE
CREATED;VALUE=DATE-TIME:20250210T132710Z
LAST-MODIFIED;VALUE=DATE-TIME:20250213T132529Z
LOCATION:PLENÁRIO TRAJANO GUIMARÃES
URL:https://www.goiania.go.leg.br/sala-de-imprensa/eventos/sessao-especial
 -em-homenagem-ao-dia-da-adocao
END:VEVENT
BEGIN:VTIMEZONE
TZID:Brazil/East
X-LIC-LOCATION:Brazil/East
BEGIN:STANDARD
DTSTART;VALUE=DATE-TIME:20250215T230000
TZNAME:BRT
TZOFFSETFROM:-0200
TZOFFSETTO:-0300
END:STANDARD
END:VTIMEZONE
END:VCALENDAR
