BEGIN:VCALENDAR
VERSION:2.0
PRODID:-//Plone.org//NONSGML plone.app.event//EN
X-WR-TIMEZONE:Brazil/East
BEGIN:VEVENT
SUMMARY:SESSÃO ESPECIAL EM HOMENAGEM AO DESTAQUE ACADÊMICO GOIANO - OS M
 ELHORES UNIVERSITÁRIOS DO ENSINO SUPERIOR.
DTSTART;TZID=Brazil/East;VALUE=DATE-TIME:20251212T090000
DTEND;TZID=Brazil/East;VALUE=DATE-TIME:20251212T120000
DTSTAMP;VALUE=DATE-TIME:20260421T141350Z
UID:f38bf669a01d4d87be3e4a701d970a10@www.goiania.go.leg.br
CONTACT:VEREADOR BRUNO DINIZ
CREATED;VALUE=DATE-TIME:20251106T121728Z
LAST-MODIFIED;VALUE=DATE-TIME:20251106T121749Z
LOCATION:PLENÁRIO TRAJANO GUIMARÃES
URL:https://www.goiania.go.leg.br/sala-de-imprensa/eventos/sessao-especial
 -em-homenagem-ao-destaque-academico-goiano-os-melhores-universitarios-do-e
 nsino-superior
END:VEVENT
BEGIN:VTIMEZONE
TZID:Brazil/East
X-LIC-LOCATION:Brazil/East
BEGIN:DAYLIGHT
DTSTART;VALUE=DATE-TIME:20251019T010000
TZNAME:BRST
TZOFFSETFROM:-0300
TZOFFSETTO:-0200
END:DAYLIGHT
END:VTIMEZONE
END:VCALENDAR
