BEGIN:VCALENDAR
VERSION:2.0
PRODID:-//Plone.org//NONSGML plone.app.event//EN
X-WR-TIMEZONE:Brazil/East
BEGIN:VEVENT
SUMMARY:SESSÃO ESPECIAL EM HOMENAGEM AO CURSO DE ARBITRAGEM DA FEDERAÇÃ
 O GOIANA DE FUTEBOL 2024.
DTSTART;TZID=Brazil/East;VALUE=DATE-TIME:20240411T190000
DTEND;TZID=Brazil/East;VALUE=DATE-TIME:20240411T220000
DTSTAMP;VALUE=DATE-TIME:20260419T174510Z
UID:41a1e3baa4d54d989adb747b49a37518@www.goiania.go.leg.br
CONTACT:VEREADOR ANSELMO PEREIRA
CREATED;VALUE=DATE-TIME:20240319T141539Z
LAST-MODIFIED;VALUE=DATE-TIME:20240401T212824Z
LOCATION:PLENÁRIO TRAJANO GUIMARÃES
URL:https://www.goiania.go.leg.br/sala-de-imprensa/eventos/sessao-especial
 -em-homenagem-ao-curso-de-arbitragem-da-federacao-goiana-de-futebol-2024
END:VEVENT
BEGIN:VTIMEZONE
TZID:Brazil/East
X-LIC-LOCATION:Brazil/East
BEGIN:STANDARD
DTSTART;VALUE=DATE-TIME:20240217T230000
TZNAME:BRT
TZOFFSETFROM:-0200
TZOFFSETTO:-0300
END:STANDARD
END:VTIMEZONE
END:VCALENDAR
