BEGIN:VCALENDAR
VERSION:2.0
PRODID:-//Plone.org//NONSGML plone.app.event//EN
X-WR-TIMEZONE:Brazil/East
BEGIN:VEVENT
SUMMARY:SESSÃO SOLENE E ESPECIAL EM HOMENAGEM AO CORRETOR DE IMÓVEIS E E
 NTREGA DE DUAS COMENDAS ELIAS BUFAIÇAL.
DTSTART;TZID=Brazil/East;VALUE=DATE-TIME:20240827T190000
DTEND;TZID=Brazil/East;VALUE=DATE-TIME:20240827T220000
DTSTAMP;VALUE=DATE-TIME:20260419T094150Z
UID:502fdeddfa4244e5a8f37ef7e54e273c@www.goiania.go.leg.br
CONTACT:VEREADOR ANSELMO PEREIRA
CREATED;VALUE=DATE-TIME:20240119T140526Z
LAST-MODIFIED;VALUE=DATE-TIME:20240719T134132Z
LOCATION:PLENÁRIO TRAJANO GUIMARÃES
URL:https://www.goiania.go.leg.br/sala-de-imprensa/eventos/sessao-especial
 -em-homenagem-ao-corretor-de-imoveis-e-entrega-de-duas-comendas-elias-bufa
 ical
END:VEVENT
BEGIN:VTIMEZONE
TZID:Brazil/East
X-LIC-LOCATION:Brazil/East
BEGIN:STANDARD
DTSTART;VALUE=DATE-TIME:20240217T230000
TZNAME:BRT
TZOFFSETFROM:-0200
TZOFFSETTO:-0300
END:STANDARD
END:VTIMEZONE
END:VCALENDAR
