BEGIN:VCALENDAR
VERSION:2.0
PRODID:-//Plone.org//NONSGML plone.app.event//EN
X-WR-TIMEZONE:Brazil/East
BEGIN:VEVENT
SUMMARY:SESSÃO ESPECIAL EM HOMENAGEM AO CARNAVAL DE RUA E AOS ARTESÃOS.
DTSTART;TZID=Brazil/East;VALUE=DATE-TIME:20200826T170000
DTEND;TZID=Brazil/East;VALUE=DATE-TIME:20200826T210000
DTSTAMP;VALUE=DATE-TIME:20260419T190313Z
UID:f0b42ecb2a6b4bb4a49058bb9512489a@www.goiania.go.leg.br
CONTACT:VEREADORA DRA. CRISTINA LOPES AFONSO
CREATED;VALUE=DATE-TIME:20200817T114053Z
LAST-MODIFIED;VALUE=DATE-TIME:20200817T114101Z
LOCATION:PLENÁRIO TRAJANO GUIMARÃES
URL:https://www.goiania.go.leg.br/sala-de-imprensa/eventos/sessao-especial
 -em-homenagem-ao-carnaval-de-rua-e-aos-artesaos
END:VEVENT
BEGIN:VTIMEZONE
TZID:Brazil/East
X-LIC-LOCATION:Brazil/East
BEGIN:STANDARD
DTSTART;VALUE=DATE-TIME:20200215T230000
TZNAME:BRT
TZOFFSETFROM:-0200
TZOFFSETTO:-0300
END:STANDARD
END:VTIMEZONE
END:VCALENDAR
