BEGIN:VCALENDAR
VERSION:2.0
PRODID:-//Plone.org//NONSGML plone.app.event//EN
X-WR-TIMEZONE:Brazil/East
BEGIN:VEVENT
SUMMARY:SESSÃO ESPECIAL EM HOMENAGEM AO BOMBEIRO CIVIL.
DTSTART;TZID=Brazil/East;VALUE=DATE-TIME:20220914T170000
DTEND;TZID=Brazil/East;VALUE=DATE-TIME:20220914T190000
DTSTAMP;VALUE=DATE-TIME:20260420T190024Z
UID:d8b0b14636d04308a5c2f21a2a042dba@www.goiania.go.leg.br
CONTACT:VEREADOR CABO SENNA
CREATED;VALUE=DATE-TIME:20220831T124430Z
LAST-MODIFIED;VALUE=DATE-TIME:20220831T124533Z
LOCATION:PLENÁRIO TRAJANO GUIMARÃES
URL:https://www.goiania.go.leg.br/sala-de-imprensa/eventos/sessao-especial
 -em-homenagem-ao-bombeiro-civil
END:VEVENT
BEGIN:VTIMEZONE
TZID:Brazil/East
X-LIC-LOCATION:Brazil/East
BEGIN:STANDARD
DTSTART;VALUE=DATE-TIME:20220219T230000
TZNAME:BRT
TZOFFSETFROM:-0200
TZOFFSETTO:-0300
END:STANDARD
END:VTIMEZONE
END:VCALENDAR
