BEGIN:VCALENDAR
VERSION:2.0
PRODID:-//Plone.org//NONSGML plone.app.event//EN
X-WR-TIMEZONE:Brazil/East
BEGIN:VEVENT
SUMMARY:SESSÃO ESPECIAL EM HOMENAGEM AO BATALHÃO DE CHOQUE.
DTSTART;TZID=Brazil/East;VALUE=DATE-TIME:20170704T193000
DTEND;TZID=Brazil/East;VALUE=DATE-TIME:20170704T220000
DTSTAMP;VALUE=DATE-TIME:20260421T070533Z
UID:cd1bbd6ada0f48038782cf57a1fd1d86@www.goiania.go.leg.br
CONTACT:VEREADOR SARGENTO NOVANDIR
CREATED;VALUE=DATE-TIME:20171208T111313Z
LAST-MODIFIED;VALUE=DATE-TIME:20171208T112937Z
LOCATION:PLENÁRIO TRAJANO GUIMARÃES
URL:https://www.goiania.go.leg.br/sala-de-imprensa/eventos/sessao-especial
 -em-homenagem-ao-batalhao-de-choque
END:VEVENT
BEGIN:VTIMEZONE
TZID:Brazil/East
X-LIC-LOCATION:Brazil/East
BEGIN:STANDARD
DTSTART;VALUE=DATE-TIME:20170218T230000
TZNAME:BRT
TZOFFSETFROM:-0200
TZOFFSETTO:-0300
END:STANDARD
END:VTIMEZONE
END:VCALENDAR
