BEGIN:VCALENDAR
VERSION:2.0
PRODID:-//Plone.org//NONSGML plone.app.event//EN
X-WR-TIMEZONE:Brazil/East
BEGIN:VEVENT
SUMMARY:SESSÃO ESPECIAL EM HOMENAGEM AO AUDITOR FISCAL.
DTSTART;TZID=Brazil/East;VALUE=DATE-TIME:20220923T170000
DTEND;TZID=Brazil/East;VALUE=DATE-TIME:20220923T190000
DTSTAMP;VALUE=DATE-TIME:20260419T145916Z
UID:b97cb04f1085427b838d75e0215c23a8@www.goiania.go.leg.br
CONTACT:VEREADOR ANSELMO PEREIRA
CREATED;VALUE=DATE-TIME:20220209T125739Z
LAST-MODIFIED;VALUE=DATE-TIME:20220825T120526Z
LOCATION:FORA DA CÂMARA
URL:https://www.goiania.go.leg.br/sala-de-imprensa/eventos/sessao-especial
 -em-homenagem-ao-auditor-fiscal
END:VEVENT
BEGIN:VTIMEZONE
TZID:Brazil/East
X-LIC-LOCATION:Brazil/East
BEGIN:STANDARD
DTSTART;VALUE=DATE-TIME:20220219T230000
TZNAME:BRT
TZOFFSETFROM:-0200
TZOFFSETTO:-0300
END:STANDARD
END:VTIMEZONE
END:VCALENDAR
