BEGIN:VCALENDAR
VERSION:2.0
PRODID:-//Plone.org//NONSGML plone.app.event//EN
X-WR-TIMEZONE:Brazil/East
BEGIN:VEVENT
SUMMARY:SESSÃO ESPECIAL EM HOMENAGEM AO ATLÉTICO CLUBE GOIANIENSE.
DTSTART;TZID=Brazil/East;VALUE=DATE-TIME:20260330T190000
DTEND;TZID=Brazil/East;VALUE=DATE-TIME:20260330T220000
DTSTAMP;VALUE=DATE-TIME:20260419T161729Z
UID:8b2150e86d0e42aa822aebd1e6aa2baf@www.goiania.go.leg.br
CONTACT:VEREADOR LÉO JOSÉ E SANCHES DA FEDERAL
CREATED;VALUE=DATE-TIME:20260303T145523Z
LAST-MODIFIED;VALUE=DATE-TIME:20260305T210628Z
LOCATION:AUDITÓRIO JAIME CÂMARA
URL:https://www.goiania.go.leg.br/sala-de-imprensa/eventos/sessao-especial
 -em-homenagem-ao-atletico-clube-goianiense-2
END:VEVENT
BEGIN:VTIMEZONE
TZID:Brazil/East
X-LIC-LOCATION:Brazil/East
BEGIN:STANDARD
DTSTART;VALUE=DATE-TIME:20260221T230000
TZNAME:BRT
TZOFFSETFROM:-0200
TZOFFSETTO:-0300
END:STANDARD
END:VTIMEZONE
END:VCALENDAR
