BEGIN:VCALENDAR
VERSION:2.0
PRODID:-//Plone.org//NONSGML plone.app.event//EN
X-WR-TIMEZONE:Brazil/East
BEGIN:VEVENT
SUMMARY:SESSÃO ESPECIAL EM HOMENAGEM AO ANIVERSÁRIO DO CONJUNTO VERA CRU
 Z.
DTSTART;TZID=Brazil/East;VALUE=DATE-TIME:20220406T170000
DTEND;TZID=Brazil/East;VALUE=DATE-TIME:20220406T190000
DTSTAMP;VALUE=DATE-TIME:20260420T021425Z
UID:e4f4d951ba194992ab676ca481796ca0@www.goiania.go.leg.br
CONTACT:VEREADOR RONILSON REIS
CREATED;VALUE=DATE-TIME:20220308T115100Z
LAST-MODIFIED;VALUE=DATE-TIME:20220308T115108Z
LOCATION:PLENÁRIO TRAJANO GUIMARÃES
URL:https://www.goiania.go.leg.br/sala-de-imprensa/eventos/sessao-especial
 -em-homenagem-ao-aniversario-do-conjunto-vera-cruz
END:VEVENT
BEGIN:VTIMEZONE
TZID:Brazil/East
X-LIC-LOCATION:Brazil/East
BEGIN:STANDARD
DTSTART;VALUE=DATE-TIME:20220219T230000
TZNAME:BRT
TZOFFSETFROM:-0200
TZOFFSETTO:-0300
END:STANDARD
END:VTIMEZONE
END:VCALENDAR
