BEGIN:VCALENDAR
VERSION:2.0
PRODID:-//Plone.org//NONSGML plone.app.event//EN
X-WR-TIMEZONE:Brazil/East
BEGIN:VEVENT
SUMMARY:SESSÃO ESPECIAL EM HOMENAGEM AO ANIVERSÁRIO DE 27 ANOS DA IGREJA
  REINO DOS CÉUS - SANTUÁRIO DA GRAÇA.
DTSTART;TZID=Brazil/East;VALUE=DATE-TIME:20190403T193000
DTEND;TZID=Brazil/East;VALUE=DATE-TIME:20190403T220000
DTSTAMP;VALUE=DATE-TIME:20260422T004548Z
UID:0794a51d5c17419f8b9e63a283a0bd4a@www.goiania.go.leg.br
CONTACT:VEREADOR ANSELMO PEREIRA
CREATED;VALUE=DATE-TIME:20190208T135348Z
LAST-MODIFIED;VALUE=DATE-TIME:20190208T135357Z
LOCATION:PLENÁRIO TRAJANO GUIMARÃES
URL:https://www.goiania.go.leg.br/sala-de-imprensa/eventos/sessao-especial
 -em-homenagem-ao-aniversario-de-27-anos-da-igreja-reino-dos-ceus-santuario
 -da-graca
END:VEVENT
BEGIN:VTIMEZONE
TZID:Brazil/East
X-LIC-LOCATION:Brazil/East
BEGIN:STANDARD
DTSTART;VALUE=DATE-TIME:20190216T230000
TZNAME:BRT
TZOFFSETFROM:-0200
TZOFFSETTO:-0300
END:STANDARD
END:VTIMEZONE
END:VCALENDAR
