BEGIN:VCALENDAR
VERSION:2.0
PRODID:-//Plone.org//NONSGML plone.app.event//EN
X-WR-TIMEZONE:Brazil/East
BEGIN:VEVENT
SUMMARY:SESSÃO ESPECIAL EM HOMENAGEM AO ANIVERSÁRIO DA IGREJA DE DEUS.
DTSTART;TZID=Brazil/East;VALUE=DATE-TIME:20190819T193000
DTEND;TZID=Brazil/East;VALUE=DATE-TIME:20190819T220000
DTSTAMP;VALUE=DATE-TIME:20260421T140500Z
UID:f3a8df3d3579452bb4082dca69f77d4c@www.goiania.go.leg.br
CONTACT:VEREADOR DR. GIAN
CREATED;VALUE=DATE-TIME:20190819T133912Z
LAST-MODIFIED;VALUE=DATE-TIME:20190819T134014Z
LOCATION:PLENÁRIO TRAJANO GUIMARÃES
URL:https://www.goiania.go.leg.br/sala-de-imprensa/eventos/sessao-especial
 -em-homenagem-ao-aniversario-da-igreja-de-deus
END:VEVENT
BEGIN:VTIMEZONE
TZID:Brazil/East
X-LIC-LOCATION:Brazil/East
BEGIN:STANDARD
DTSTART;VALUE=DATE-TIME:20190216T230000
TZNAME:BRT
TZOFFSETFROM:-0200
TZOFFSETTO:-0300
END:STANDARD
END:VTIMEZONE
END:VCALENDAR
