BEGIN:VCALENDAR
VERSION:2.0
PRODID:-//Plone.org//NONSGML plone.app.event//EN
X-WR-TIMEZONE:Brazil/East
BEGIN:VEVENT
SUMMARY:SESSÃO ESPECIAL EM HOMENAGEM AO AMM - MINISTÉRIO DOS MOTOCICLIST
 AS ADVENTISTA .
DTSTART;TZID=Brazil/East;VALUE=DATE-TIME:20220519T190000
DTEND;TZID=Brazil/East;VALUE=DATE-TIME:20220519T220000
DTSTAMP;VALUE=DATE-TIME:20260420T021510Z
UID:89b7529b2a1f477681709f06c458a3ec@www.goiania.go.leg.br
CONTACT:VEREADOR ANSELMO PEREIRA
CREATED;VALUE=DATE-TIME:20220209T142541Z
LAST-MODIFIED;VALUE=DATE-TIME:20220426T122853Z
LOCATION:PLENÁRIO TRAJANO GUIMARÃES
URL:https://www.goiania.go.leg.br/sala-de-imprensa/eventos/sessao-especial
 -em-homenagem-ao-amm-movimento-adventista-dos-motociclistas
END:VEVENT
BEGIN:VTIMEZONE
TZID:Brazil/East
X-LIC-LOCATION:Brazil/East
BEGIN:STANDARD
DTSTART;VALUE=DATE-TIME:20220219T230000
TZNAME:BRT
TZOFFSETFROM:-0200
TZOFFSETTO:-0300
END:STANDARD
END:VTIMEZONE
END:VCALENDAR
