BEGIN:VCALENDAR
VERSION:2.0
PRODID:-//Plone.org//NONSGML plone.app.event//EN
X-WR-TIMEZONE:Brazil/East
BEGIN:VEVENT
SUMMARY:SESSÃO ESPECIAL EM HOMENAGEM A UNIVERSIDADE ESTADUAL DE GOIÁS - 
 UEG.
DTSTART;TZID=Brazil/East;VALUE=DATE-TIME:20170626T193000
DTEND;TZID=Brazil/East;VALUE=DATE-TIME:20170626T220000
DTSTAMP;VALUE=DATE-TIME:20260420T201952Z
UID:2e46f0b48434485693478117775c61a0@www.goiania.go.leg.br
CONTACT:VEREADORA SABRINA GARCÊZ
CREATED;VALUE=DATE-TIME:20171208T111313Z
LAST-MODIFIED;VALUE=DATE-TIME:20171208T112936Z
LOCATION:PLENÁRIO TRAJANO GUIMARÃES
URL:https://www.goiania.go.leg.br/sala-de-imprensa/eventos/sessao-especial
 -em-homenagem-a-universidade-estadual-de-goias-ueg
END:VEVENT
BEGIN:VTIMEZONE
TZID:Brazil/East
X-LIC-LOCATION:Brazil/East
BEGIN:STANDARD
DTSTART;VALUE=DATE-TIME:20170218T230000
TZNAME:BRT
TZOFFSETFROM:-0200
TZOFFSETTO:-0300
END:STANDARD
END:VTIMEZONE
END:VCALENDAR
