BEGIN:VCALENDAR
VERSION:2.0
PRODID:-//Plone.org//NONSGML plone.app.event//EN
X-WR-TIMEZONE:Brazil/East
BEGIN:VEVENT
SUMMARY:SESSÃO ESPECIAL EM HOMENAGEM À TRADIÇÃO E À CULTURA DE BOTECO
  DE GOIÂNIA.
DTSTART;TZID=Brazil/East;VALUE=DATE-TIME:20260601T190000
DTEND;TZID=Brazil/East;VALUE=DATE-TIME:20260601T220000
DTSTAMP;VALUE=DATE-TIME:20260421T042353Z
UID:312a09b0094a418998c62ca1fd4eba26@www.goiania.go.leg.br
CONTACT:VEREADOR FABRÍCIO ROSA
CREATED;VALUE=DATE-TIME:20260323T214513Z
LAST-MODIFIED;VALUE=DATE-TIME:20260323T214526Z
LOCATION:AUDITÓRIO CARLOS EURICO
URL:https://www.goiania.go.leg.br/sala-de-imprensa/eventos/sessao-especial
 -em-homenagem-a-tradicao-e-a-cultura-de-boteco-de-goiania
END:VEVENT
BEGIN:VTIMEZONE
TZID:Brazil/East
X-LIC-LOCATION:Brazil/East
BEGIN:STANDARD
DTSTART;VALUE=DATE-TIME:20260221T230000
TZNAME:BRT
TZOFFSETFROM:-0200
TZOFFSETTO:-0300
END:STANDARD
END:VTIMEZONE
END:VCALENDAR
