BEGIN:VCALENDAR
VERSION:2.0
PRODID:-//Plone.org//NONSGML plone.app.event//EN
X-WR-TIMEZONE:Brazil/East
BEGIN:VEVENT
SUMMARY:SESSÃO ESPECIAL EM HOMENAGEM A PESSOAS QUE EMPREGRAM MÃES.
DTSTART;TZID=Brazil/East;VALUE=DATE-TIME:20221121T090000
DTEND;TZID=Brazil/East;VALUE=DATE-TIME:20221121T120000
DTSTAMP;VALUE=DATE-TIME:20260420T214105Z
UID:6a828e2e937d43dc8798f2ef1631df8c@www.goiania.go.leg.br
CONTACT:VEREADORA AAVA SANTIAGO
CREATED;VALUE=DATE-TIME:20221019T193650Z
LAST-MODIFIED;VALUE=DATE-TIME:20221117T122248Z
LOCATION:PLENÁRIO TRAJANO GUIMARÃES
URL:https://www.goiania.go.leg.br/sala-de-imprensa/eventos/sessao-especial
 -em-homenagem-a-pessoas-que-empregram-maes
END:VEVENT
BEGIN:VTIMEZONE
TZID:Brazil/East
X-LIC-LOCATION:Brazil/East
BEGIN:DAYLIGHT
DTSTART;VALUE=DATE-TIME:20221016T010000
TZNAME:BRST
TZOFFSETFROM:-0300
TZOFFSETTO:-0200
END:DAYLIGHT
END:VTIMEZONE
END:VCALENDAR
