BEGIN:VCALENDAR
VERSION:2.0
PRODID:-//Plone.org//NONSGML plone.app.event//EN
X-WR-TIMEZONE:Brazil/East
BEGIN:VEVENT
SUMMARY:SESSÃO ESPECIAL EM HOMENAGEM À MATERNIDADE ATÍPICA.
DTSTART;TZID=Brazil/East;VALUE=DATE-TIME:20260608T190000
DTEND;TZID=Brazil/East;VALUE=DATE-TIME:20260608T220000
DTSTAMP;VALUE=DATE-TIME:20260421T053730Z
UID:3c8efb8593b84b1b8d4041fef388fd87@www.goiania.go.leg.br
CONTACT:VEREADOR BESSA
CREATED;VALUE=DATE-TIME:20260325T211003Z
LAST-MODIFIED;VALUE=DATE-TIME:20260325T211016Z
LOCATION:PLENÁRIO TRAJANO GUIMARÃES
URL:https://www.goiania.go.leg.br/sala-de-imprensa/eventos/sessao-especial
 -em-homenagem-a-maternidade-atipica-2
END:VEVENT
BEGIN:VTIMEZONE
TZID:Brazil/East
X-LIC-LOCATION:Brazil/East
BEGIN:STANDARD
DTSTART;VALUE=DATE-TIME:20260221T230000
TZNAME:BRT
TZOFFSETFROM:-0200
TZOFFSETTO:-0300
END:STANDARD
END:VTIMEZONE
END:VCALENDAR
