BEGIN:VCALENDAR
VERSION:2.0
PRODID:-//Plone.org//NONSGML plone.app.event//EN
X-WR-TIMEZONE:Brazil/East
BEGIN:VEVENT
SUMMARY:SESSÃO ESPECIAL EM HOMENAGEM A GRANDE ORIENTE DO ESTADO DE GOIÁS
 .
DTSTART;TZID=Brazil/East;VALUE=DATE-TIME:20191029T193000
DTEND;TZID=Brazil/East;VALUE=DATE-TIME:20191029T220000
DTSTAMP;VALUE=DATE-TIME:20260421T224728Z
UID:d7dae57eb9df41d992c2c66d92a465dc@www.goiania.go.leg.br
CONTACT:VEREADOR GUSTAVO CRUVINEL
CREATED;VALUE=DATE-TIME:20190417T115902Z
LAST-MODIFIED;VALUE=DATE-TIME:20190417T115909Z
LOCATION:PLENÁRIO TRAJANO GUIMARÃES
URL:https://www.goiania.go.leg.br/sala-de-imprensa/eventos/sessao-especial
 -em-homenagem-a-grande-oriente-do-estado-de-goias
END:VEVENT
BEGIN:VTIMEZONE
TZID:Brazil/East
X-LIC-LOCATION:Brazil/East
BEGIN:DAYLIGHT
DTSTART;VALUE=DATE-TIME:20191020T010000
TZNAME:BRST
TZOFFSETFROM:-0300
TZOFFSETTO:-0200
END:DAYLIGHT
END:VTIMEZONE
END:VCALENDAR
