BEGIN:VCALENDAR
VERSION:2.0
PRODID:-//Plone.org//NONSGML plone.app.event//EN
X-WR-TIMEZONE:Brazil/East
BEGIN:VEVENT
SUMMARY:SESSÃO ESPECIAL EM HOMENAGEM À FGFS - FEDERAÇÃO GOIANA DE FUTE
 BOL DE SALÃO.
DTSTART;TZID=Brazil/East;VALUE=DATE-TIME:20260818T190000
DTEND;TZID=Brazil/East;VALUE=DATE-TIME:20260818T220000
DTSTAMP;VALUE=DATE-TIME:20260421T214731Z
UID:1b65c81d4633465292ea3b3cf6d14b18@www.goiania.go.leg.br
CONTACT:VEREADOR DENÍCIO TRINDADE
CREATED;VALUE=DATE-TIME:20260212T123614Z
LAST-MODIFIED;VALUE=DATE-TIME:20260212T123636Z
LOCATION:AUDITÓRIO JAIME CÂMARA
URL:https://www.goiania.go.leg.br/sala-de-imprensa/eventos/sessao-especial
 -em-homenagem-a-fgfs-federacao-goiana-de-futebol-de-salao
END:VEVENT
BEGIN:VTIMEZONE
TZID:Brazil/East
X-LIC-LOCATION:Brazil/East
BEGIN:STANDARD
DTSTART;VALUE=DATE-TIME:20260221T230000
TZNAME:BRT
TZOFFSETFROM:-0200
TZOFFSETTO:-0300
END:STANDARD
END:VTIMEZONE
END:VCALENDAR
