BEGIN:VCALENDAR
VERSION:2.0
PRODID:-//Plone.org//NONSGML plone.app.event//EN
X-WR-TIMEZONE:Brazil/East
BEGIN:VEVENT
SUMMARY:SESSÃO ESPECIAL EM HOMENAGEM A FAMÍLIA CRISTÃ.
DTSTART;TZID=Brazil/East;VALUE=DATE-TIME:20180529T193000
DTEND;TZID=Brazil/East;VALUE=DATE-TIME:20180529T220000
DTSTAMP;VALUE=DATE-TIME:20260425T163619Z
UID:295933d9abd245f5be79c620f681c78e@www.goiania.go.leg.br
CONTACT:VEREADORA LÉIA KLEBIA
CREATED;VALUE=DATE-TIME:20180423T112550Z
LAST-MODIFIED;VALUE=DATE-TIME:20180423T112610Z
LOCATION:PLENÁRIO TRAJANO GUIMARÃES
URL:https://www.goiania.go.leg.br/sala-de-imprensa/eventos/sessao-especial
 -em-homenagem-a-familia-crista
END:VEVENT
BEGIN:VTIMEZONE
TZID:Brazil/East
X-LIC-LOCATION:Brazil/East
BEGIN:STANDARD
DTSTART;VALUE=DATE-TIME:20180217T230000
TZNAME:BRT
TZOFFSETFROM:-0200
TZOFFSETTO:-0300
END:STANDARD
END:VTIMEZONE
END:VCALENDAR
