BEGIN:VCALENDAR
VERSION:2.0
PRODID:-//Plone.org//NONSGML plone.app.event//EN
X-WR-TIMEZONE:Brazil/East
BEGIN:VEVENT
SUMMARY:SESSÃO ESPECIAL EM HOMENAGEM A ESTUDANTES\, PROFESSORES E PROFISS
 IONAIS DE ECONOMIA.
DTSTART;TZID=Brazil/East;VALUE=DATE-TIME:20241108T170000
DTEND;TZID=Brazil/East;VALUE=DATE-TIME:20241108T190000
DTSTAMP;VALUE=DATE-TIME:20260420T144322Z
UID:3da5c4fcd05d4ff29fd86b5c1c07c53e@www.goiania.go.leg.br
CONTACT:VEREADOR JUAREZ LOPES
CREATED;VALUE=DATE-TIME:20241031T145028Z
LAST-MODIFIED;VALUE=DATE-TIME:20241031T145040Z
LOCATION:PLENÁRIO TRAJANO GUIMARÃES
URL:https://www.goiania.go.leg.br/sala-de-imprensa/eventos/sessao-especial
 -em-homenagem-a-estudantes-professores-e-profissionais-de-economia
END:VEVENT
BEGIN:VTIMEZONE
TZID:Brazil/East
X-LIC-LOCATION:Brazil/East
BEGIN:DAYLIGHT
DTSTART;VALUE=DATE-TIME:20241020T010000
TZNAME:BRST
TZOFFSETFROM:-0300
TZOFFSETTO:-0200
END:DAYLIGHT
END:VTIMEZONE
END:VCALENDAR
