BEGIN:VCALENDAR
VERSION:2.0
PRODID:-//Plone.org//NONSGML plone.app.event//EN
X-WR-TIMEZONE:Brazil/East
BEGIN:VEVENT
SUMMARY:SESSÃO ESPECIAL EM HOMENAGEM À CAPELANIA CÍVICO MILITAR.
DTSTART;TZID=Brazil/East;VALUE=DATE-TIME:20240708T160000
DTEND;TZID=Brazil/East;VALUE=DATE-TIME:20240708T200000
DTSTAMP;VALUE=DATE-TIME:20260420T131738Z
UID:d5963cba8251439d9e214c85d31d5c0d@www.goiania.go.leg.br
CONTACT:VEREADOR ISAÍAS RIBEIRO
CREATED;VALUE=DATE-TIME:20240626T133905Z
LAST-MODIFIED;VALUE=DATE-TIME:20240626T134031Z
LOCATION:PLENÁRIO TRAJANO GUIMARÃES
URL:https://www.goiania.go.leg.br/sala-de-imprensa/eventos/sessao-especial
 -em-homenagem-a-capelania-civico-militar
END:VEVENT
BEGIN:VTIMEZONE
TZID:Brazil/East
X-LIC-LOCATION:Brazil/East
BEGIN:STANDARD
DTSTART;VALUE=DATE-TIME:20240217T230000
TZNAME:BRT
TZOFFSETFROM:-0200
TZOFFSETTO:-0300
END:STANDARD
END:VTIMEZONE
END:VCALENDAR
