BEGIN:VCALENDAR
VERSION:2.0
PRODID:-//Plone.org//NONSGML plone.app.event//EN
X-WR-TIMEZONE:Brazil/East
BEGIN:VEVENT
SUMMARY:SESSÃO ESPECIAL EM HOMENAGEM A ASSOCIAÇÃO DOS PENSIONISTAS PMGO
  E CBMGO E DA ASSOCIAÇÃO DOS MILITARES INATIVOS E CBMGO.
DTSTART;TZID=Brazil/East;VALUE=DATE-TIME:20190924T193000
DTEND;TZID=Brazil/East;VALUE=DATE-TIME:20190924T220000
DTSTAMP;VALUE=DATE-TIME:20260420T055606Z
UID:54032a9e28124a0893d5ec4402caa814@www.goiania.go.leg.br
CONTACT:VEREADOR GUSTAVO CRUVINEL
CREATED;VALUE=DATE-TIME:20190417T115509Z
LAST-MODIFIED;VALUE=DATE-TIME:20190417T115515Z
LOCATION:PLENÁRIO TRAJANO GUIMARÃES
URL:https://www.goiania.go.leg.br/sala-de-imprensa/eventos/sessao-especial
 -em-homenagem-a-associacao-dos-pensionistas-pmgo-e-cbmgo-e-da-associacao-d
 os-militares-inativos-e-cbmgo
END:VEVENT
BEGIN:VTIMEZONE
TZID:Brazil/East
X-LIC-LOCATION:Brazil/East
BEGIN:STANDARD
DTSTART;VALUE=DATE-TIME:20190216T230000
TZNAME:BRT
TZOFFSETFROM:-0200
TZOFFSETTO:-0300
END:STANDARD
END:VTIMEZONE
END:VCALENDAR
