BEGIN:VCALENDAR
VERSION:2.0
PRODID:-//Plone.org//NONSGML plone.app.event//EN
X-WR-TIMEZONE:Brazil/East
BEGIN:VEVENT
SUMMARY:SESSÃO ESPECIAL EM HOMENAGEM A ASSOCIAÇÃO DOS OFICIAIS DA PM E 
 CBM E DA ASSOCIAÇÃO DOS DIPLOMADOS DA ESCOLA SUPERIOR DE GUERRA/ADESG-GO
 .
DTSTART;TZID=Brazil/East;VALUE=DATE-TIME:20181022T193000
DTEND;TZID=Brazil/East;VALUE=DATE-TIME:20181022T220000
DTSTAMP;VALUE=DATE-TIME:20260421T141357Z
UID:45eb704919374ad5857159b8643c29ec@www.goiania.go.leg.br
CONTACT:VEREADOR GUSTAVO CRUVINEL
CREATED;VALUE=DATE-TIME:20180409T140650Z
LAST-MODIFIED;VALUE=DATE-TIME:20180409T140711Z
LOCATION:PLENÁRIO TRAJANO GUIMARÃES
URL:https://www.goiania.go.leg.br/sala-de-imprensa/eventos/sessao-especial
 -em-homenagem-a-associacao-dos-oficiais-da-pm-e-cbm-e-da-associacao-dos-di
 plomados-da-escola-superior-de-guerra-adesg-go
END:VEVENT
BEGIN:VTIMEZONE
TZID:Brazil/East
X-LIC-LOCATION:Brazil/East
BEGIN:DAYLIGHT
DTSTART;VALUE=DATE-TIME:20181021T010000
TZNAME:BRST
TZOFFSETFROM:-0300
TZOFFSETTO:-0200
END:DAYLIGHT
END:VTIMEZONE
END:VCALENDAR
