BEGIN:VCALENDAR
VERSION:2.0
PRODID:-//Plone.org//NONSGML plone.app.event//EN
X-WR-TIMEZONE:Brazil/East
BEGIN:VEVENT
SUMMARY:SESSÃO ESPECIAL EM HOMENAGEM À ASSOCIAÇÃO DOS  OFICIAIS DA POL
 ÍCIA E DO CORPO DE BOMBEIROS MILITAR DE GOIÁS - ASSOF.
DTSTART;TZID=Brazil/East;VALUE=DATE-TIME:20251021T190000
DTEND;TZID=Brazil/East;VALUE=DATE-TIME:20251021T220000
DTSTAMP;VALUE=DATE-TIME:20260419T104941Z
UID:a93619e2c77c451fa240e5d7578a8ccc@www.goiania.go.leg.br
CONTACT:VEREADOR CORONEL URZEDA
CREATED;VALUE=DATE-TIME:20250908T144742Z
LAST-MODIFIED;VALUE=DATE-TIME:20250924T114304Z
LOCATION:AUDITÓRIO JAIME CÂMARA
URL:https://www.goiania.go.leg.br/sala-de-imprensa/eventos/sessao-especial
 -em-homenagem-a-associacao-centro-oeste-de-retificas-de-motores-acorem-e-a
 -assocacao-goiania-de-empresarios-de-autopecas-ageap-1
END:VEVENT
BEGIN:VTIMEZONE
TZID:Brazil/East
X-LIC-LOCATION:Brazil/East
BEGIN:DAYLIGHT
DTSTART;VALUE=DATE-TIME:20251019T010000
TZNAME:BRST
TZOFFSETFROM:-0300
TZOFFSETTO:-0200
END:DAYLIGHT
END:VTIMEZONE
END:VCALENDAR
