BEGIN:VCALENDAR
VERSION:2.0
PRODID:-//Plone.org//NONSGML plone.app.event//EN
X-WR-TIMEZONE:Brazil/East
BEGIN:VEVENT
SUMMARY:SESSÃO ESPECIAL EM HOMENAGEM A ASSOCIAÇÃO BRASILEIRA DOS  PROFI
 SSIONAIS DE RECURSOS HUMANOS. - AAPSA-GO.
DTSTART;TZID=Brazil/East;VALUE=DATE-TIME:20251126T190000
DTEND;TZID=Brazil/East;VALUE=DATE-TIME:20251126T220000
DTSTAMP;VALUE=DATE-TIME:20260422T033129Z
UID:6ba17c2cb0814ed2923c30f0305df5b6@www.goiania.go.leg.br
CONTACT:VEREADOR ANSELMO PEREIRA
CREATED;VALUE=DATE-TIME:20251021T151352Z
LAST-MODIFIED;VALUE=DATE-TIME:20251021T151417Z
LOCATION:PLENÁRIO TRAJANO GUIMARÃES
URL:https://www.goiania.go.leg.br/sala-de-imprensa/eventos/sessao-especial
 -em-homenagem-a-associacao-brasileira-dos-profissionais-de-recursos-humano
 s-aapsa-go
END:VEVENT
BEGIN:VTIMEZONE
TZID:Brazil/East
X-LIC-LOCATION:Brazil/East
BEGIN:DAYLIGHT
DTSTART;VALUE=DATE-TIME:20251019T010000
TZNAME:BRST
TZOFFSETFROM:-0300
TZOFFSETTO:-0200
END:DAYLIGHT
END:VTIMEZONE
END:VCALENDAR
