BEGIN:VCALENDAR
VERSION:2.0
PRODID:-//Plone.org//NONSGML plone.app.event//EN
X-WR-TIMEZONE:Brazil/East
BEGIN:VEVENT
SUMMARY:SESSÃO  SOLENE PARA A ENTREGA DE TÍTULO DE CIDADÃO GOIANIENSE A
 O SENHOR RAIMUNDO NONATO LEITE PINTO..
DTSTART;TZID=Brazil/East;VALUE=DATE-TIME:20251008T190000
DTEND;TZID=Brazil/East;VALUE=DATE-TIME:20251008T220000
DTSTAMP;VALUE=DATE-TIME:20260421T202139Z
UID:f904982156884000acf17dc3100f9a12@www.goiania.go.leg.br
CONTACT:VEREADOR DENÍCIO TRINDADE
CREATED;VALUE=DATE-TIME:20250212T140553Z
LAST-MODIFIED;VALUE=DATE-TIME:20250903T142742Z
LOCATION:PLENÁRIO TRAJANO GUIMARÃES
URL:https://www.goiania.go.leg.br/sala-de-imprensa/eventos/sessao-especial
 -em-homenagem-a-ans-associacao-dos-servidores-de-nivel-superior-da-prfeitu
 ra-de-goiania
END:VEVENT
BEGIN:VTIMEZONE
TZID:Brazil/East
X-LIC-LOCATION:Brazil/East
BEGIN:STANDARD
DTSTART;VALUE=DATE-TIME:20250215T230000
TZNAME:BRT
TZOFFSETFROM:-0200
TZOFFSETTO:-0300
END:STANDARD
END:VTIMEZONE
END:VCALENDAR
