BEGIN:VCALENDAR
VERSION:2.0
PRODID:-//Plone.org//NONSGML plone.app.event//EN
X-WR-TIMEZONE:Brazil/East
BEGIN:VEVENT
SUMMARY:SESSÃO ESPECIAL EM HOMENAGEM A AGRICULTURA E AOS PEQUENOS PRODUTO
 RES DE GOIÁS.
DTSTART;TZID=Brazil/East;VALUE=DATE-TIME:20260615T090000
DTEND;TZID=Brazil/East;VALUE=DATE-TIME:20260615T120000
DTSTAMP;VALUE=DATE-TIME:20260422T002434Z
UID:5e25c1b44ad4415b8813d12ae5ff1ae2@www.goiania.go.leg.br
CONTACT:VEREADOR PROFESSOR EDWARD
CREATED;VALUE=DATE-TIME:20260319T142528Z
LAST-MODIFIED;VALUE=DATE-TIME:20260319T142557Z
LOCATION:PLENÁRIO TRAJANO GUIMARÃES
URL:https://www.goiania.go.leg.br/sala-de-imprensa/eventos/sessao-especial
 -em-homenagem-a-agricultura-e-aos-pequenos-produtores-de-goias
END:VEVENT
BEGIN:VTIMEZONE
TZID:Brazil/East
X-LIC-LOCATION:Brazil/East
BEGIN:STANDARD
DTSTART;VALUE=DATE-TIME:20260221T230000
TZNAME:BRT
TZOFFSETFROM:-0200
TZOFFSETTO:-0300
END:STANDARD
END:VTIMEZONE
END:VCALENDAR
