BEGIN:VCALENDAR
VERSION:2.0
PRODID:-//Plone.org//NONSGML plone.app.event//EN
X-WR-TIMEZONE:Brazil/East
BEGIN:VEVENT
SUMMARY:SESSÃO SOLENE PARA A ENTREGA DA COMENDA DO MÉRITO DA  ADVOGACIA 
 TRABALHISTA JERÔNIMO JOSÉ BATISTA.
DTSTART;TZID=Brazil/East;VALUE=DATE-TIME:20251020T090000
DTEND;TZID=Brazil/East;VALUE=DATE-TIME:20251020T120000
DTSTAMP;VALUE=DATE-TIME:20260419T120617Z
UID:30de9f187058432e8cb17b2abf7ab7ce@www.goiania.go.leg.br
CONTACT:VEREADOR ANSELMO PEREIRA
CREATED;VALUE=DATE-TIME:20250908T160428Z
LAST-MODIFIED;VALUE=DATE-TIME:20250916T124121Z
LOCATION:PLENÁRIO TRAJANO GUIMARÃES
URL:https://www.goiania.go.leg.br/sala-de-imprensa/eventos/sessao-especial
 -em-homenagem-a-advogacia-trabalhista
END:VEVENT
BEGIN:VTIMEZONE
TZID:Brazil/East
X-LIC-LOCATION:Brazil/East
BEGIN:DAYLIGHT
DTSTART;VALUE=DATE-TIME:20251019T010000
TZNAME:BRST
TZOFFSETFROM:-0300
TZOFFSETTO:-0200
END:DAYLIGHT
END:VTIMEZONE
END:VCALENDAR
