BEGIN:VCALENDAR
VERSION:2.0
PRODID:-//Plone.org//NONSGML plone.app.event//EN
X-WR-TIMEZONE:Brazil/East
BEGIN:VEVENT
SUMMARY:SESSÃO ESPECIAL EM COMEMORAÇÃO "MULHERES DE EXPRESSÃO".
DTSTART;TZID=Brazil/East;VALUE=DATE-TIME:20180306T193000
DTEND;TZID=Brazil/East;VALUE=DATE-TIME:20180306T220000
DTSTAMP;VALUE=DATE-TIME:20260422T033054Z
UID:b1eac4f21865413782e342fa2791a1a0@www.goiania.go.leg.br
CONTACT:VEREADORA LÉIA KLÉBIA
CREATED;VALUE=DATE-TIME:20180219T130212Z
LAST-MODIFIED;VALUE=DATE-TIME:20180219T130221Z
LOCATION:PLENÁRIO TRAJANO GUIMARÃES
URL:https://www.goiania.go.leg.br/sala-de-imprensa/eventos/sessao-especial
 -em-comemoracao-mulheres-de-expressao
END:VEVENT
BEGIN:VTIMEZONE
TZID:Brazil/East
X-LIC-LOCATION:Brazil/East
BEGIN:STANDARD
DTSTART;VALUE=DATE-TIME:20180217T230000
TZNAME:BRT
TZOFFSETFROM:-0200
TZOFFSETTO:-0300
END:STANDARD
END:VTIMEZONE
END:VCALENDAR
