BEGIN:VCALENDAR
VERSION:2.0
PRODID:-//Plone.org//NONSGML plone.app.event//EN
X-WR-TIMEZONE:Brazil/East
BEGIN:VEVENT
SUMMARY:SESSÃO ESPECIAL EM COMEMORAÇÃO APS 80 ANOS DA FACULDADE DE ODON
 TOLOGIA DA UNIVERSIDADE FFEDERAL DE GOIÁS -UFG.
DTSTART;TZID=Brazil/East;VALUE=DATE-TIME:20251114T090000
DTEND;TZID=Brazil/East;VALUE=DATE-TIME:20251114T120000
DTSTAMP;VALUE=DATE-TIME:20260419T120930Z
UID:1059ae0b9b434fdebc4b7fbb47ee2616@www.goiania.go.leg.br
CONTACT:VEREADOR PROFESSOR EDWARD
CREATED;VALUE=DATE-TIME:20250903T205127Z
LAST-MODIFIED;VALUE=DATE-TIME:20250903T205142Z
LOCATION:PLENÁRIO TRAJANO GUIMARÃES
URL:https://www.goiania.go.leg.br/sala-de-imprensa/eventos/sessao-especial
 -em-comemoracao-aps-80-anos-da-faculdade-de-odontologia-da-universidade-ff
 ederal-de-goias-ufg
END:VEVENT
BEGIN:VTIMEZONE
TZID:Brazil/East
X-LIC-LOCATION:Brazil/East
BEGIN:DAYLIGHT
DTSTART;VALUE=DATE-TIME:20251019T010000
TZNAME:BRST
TZOFFSETFROM:-0300
TZOFFSETTO:-0200
END:DAYLIGHT
END:VTIMEZONE
END:VCALENDAR
