BEGIN:VCALENDAR
VERSION:2.0
PRODID:-//Plone.org//NONSGML plone.app.event//EN
X-WR-TIMEZONE:Brazil/East
BEGIN:VEVENT
SUMMARY:SESSÃO ESPECIAL EM COMEMORAÇÃO AOS 83 ANOS DO VILA NOVA FUTEBOL
  CLUBE.
DTSTART;TZID=Brazil/East;VALUE=DATE-TIME:20260805T190000
DTEND;TZID=Brazil/East;VALUE=DATE-TIME:20260805T220000
DTSTAMP;VALUE=DATE-TIME:20260419T215326Z
UID:fc54453b4e6c49e08e401f084d6a3102@www.goiania.go.leg.br
CONTACT:VEREADOR ROMÁRIO POLICARPO
CREATED;VALUE=DATE-TIME:20260212T125945Z
LAST-MODIFIED;VALUE=DATE-TIME:20260212T130007Z
LOCATION:PLENÁRIO TRAJANO GUIMARÃES
URL:https://www.goiania.go.leg.br/sala-de-imprensa/eventos/sessao-especial
 -em-comemoracao-aos-83-anos-do-vila-nova-futebol-clube
END:VEVENT
BEGIN:VTIMEZONE
TZID:Brazil/East
X-LIC-LOCATION:Brazil/East
BEGIN:STANDARD
DTSTART;VALUE=DATE-TIME:20260221T230000
TZNAME:BRT
TZOFFSETFROM:-0200
TZOFFSETTO:-0300
END:STANDARD
END:VTIMEZONE
END:VCALENDAR
