BEGIN:VCALENDAR
VERSION:2.0
PRODID:-//Plone.org//NONSGML plone.app.event//EN
X-WR-TIMEZONE:Brazil/East
BEGIN:VEVENT
SUMMARY:SESSÃO ESPECIAL EM COMEMORAÇÃO AOS 81 ANOS DO VILA NOVA FUTEBOL
  CLUBE.
DTSTART;TZID=Brazil/East;VALUE=DATE-TIME:20240702T190000
DTEND;TZID=Brazil/East;VALUE=DATE-TIME:20240702T220000
DTSTAMP;VALUE=DATE-TIME:20260420T082230Z
UID:ec72f5aa9fb6466ebf2e4a0dd6f00b02@www.goiania.go.leg.br
CONTACT:VEREADOR ROMÁRIO POLICARPO
CREATED;VALUE=DATE-TIME:20240422T135750Z
LAST-MODIFIED;VALUE=DATE-TIME:20240422T135800Z
LOCATION:PLENÁRIO TRAJANO GUIMARÃES
URL:https://www.goiania.go.leg.br/sala-de-imprensa/eventos/sessao-especial
 -em-comemoracao-aos-81-anos-do-vila-nova-futebol-clube
END:VEVENT
BEGIN:VTIMEZONE
TZID:Brazil/East
X-LIC-LOCATION:Brazil/East
BEGIN:STANDARD
DTSTART;VALUE=DATE-TIME:20240217T230000
TZNAME:BRT
TZOFFSETFROM:-0200
TZOFFSETTO:-0300
END:STANDARD
END:VTIMEZONE
END:VCALENDAR
