BEGIN:VCALENDAR
VERSION:2.0
PRODID:-//Plone.org//NONSGML plone.app.event//EN
X-WR-TIMEZONE:Brazil/East
BEGIN:VEVENT
SUMMARY:SESSÃO ESPECIAL EM COMEMORAÇÃO AOS 75 ANOS DE FUNDAÇÃO DO EXT
 ERNATO SÃO JOSÉ.
DTSTART;TZID=Brazil/East;VALUE=DATE-TIME:20231009T170000
DTEND;TZID=Brazil/East;VALUE=DATE-TIME:20231009T190000
DTSTAMP;VALUE=DATE-TIME:20260422T035810Z
UID:410d910614c64670af90ca56dc827830@www.goiania.go.leg.br
CONTACT:VEREADOR LUCAS KITÃO
CREATED;VALUE=DATE-TIME:20230926T122328Z
LAST-MODIFIED;VALUE=DATE-TIME:20230926T122337Z
LOCATION:PLENÁRIO TRAJANO GUIMARÃES
URL:https://www.goiania.go.leg.br/sala-de-imprensa/eventos/sessao-especial
 -em-comemoracao-aos-75-anos-de-fundacao-do-externato-sao-jose
END:VEVENT
BEGIN:VTIMEZONE
TZID:Brazil/East
X-LIC-LOCATION:Brazil/East
BEGIN:STANDARD
DTSTART;VALUE=DATE-TIME:20230225T230000
TZNAME:BRT
TZOFFSETFROM:-0200
TZOFFSETTO:-0300
END:STANDARD
END:VTIMEZONE
END:VCALENDAR
