BEGIN:VCALENDAR
VERSION:2.0
PRODID:-//Plone.org//NONSGML plone.app.event//EN
X-WR-TIMEZONE:Brazil/East
BEGIN:VEVENT
SUMMARY:SESSÃO ESPECIAL EM COMEMORAÇÃO AOS 73 ANOS DO CLUBE DE ENGENHAR
 IA.
DTSTART;TZID=Brazil/East;VALUE=DATE-TIME:20240311T170000
DTEND;TZID=Brazil/East;VALUE=DATE-TIME:20240311T190000
DTSTAMP;VALUE=DATE-TIME:20260422T075223Z
UID:2b33679f409b464ab4aab5d9a009396a@www.goiania.go.leg.br
CONTACT:VEREADOR LUCAS KITÃO
CREATED;VALUE=DATE-TIME:20240118T150639Z
LAST-MODIFIED;VALUE=DATE-TIME:20240118T150654Z
LOCATION:PLENÁRIO TRAJANO GUIMARÃES
URL:https://www.goiania.go.leg.br/sala-de-imprensa/eventos/sessao-especial
 -em-comemoracao-aos-73-anos-do-clube-de-engenharia
END:VEVENT
BEGIN:VTIMEZONE
TZID:Brazil/East
X-LIC-LOCATION:Brazil/East
BEGIN:STANDARD
DTSTART;VALUE=DATE-TIME:20240217T230000
TZNAME:BRT
TZOFFSETFROM:-0200
TZOFFSETTO:-0300
END:STANDARD
END:VTIMEZONE
END:VCALENDAR
