BEGIN:VCALENDAR
VERSION:2.0
PRODID:-//Plone.org//NONSGML plone.app.event//EN
X-WR-TIMEZONE:Brazil/East
BEGIN:VEVENT
SUMMARY:SESSÃO ESPECIAL EM COMEMORAÇÃO AOS 70 ANOS DO SESI EM GOIÁS.
DTSTART;TZID=Brazil/East;VALUE=DATE-TIME:20230418T170000
DTEND;TZID=Brazil/East;VALUE=DATE-TIME:20230418T190000
DTSTAMP;VALUE=DATE-TIME:20260423T090056Z
UID:a2c57fdbfff24724b4399fe026c4e7c8@www.goiania.go.leg.br
CONTACT:VEREADOR ANSELMO PEREIRA
CREATED;VALUE=DATE-TIME:20230322T202552Z
LAST-MODIFIED;VALUE=DATE-TIME:20230322T202643Z
LOCATION:PLENÁRIO TRAJANO GUIMARÃES
URL:https://www.goiania.go.leg.br/sala-de-imprensa/eventos/sessao-especial
 -em-comemoracao-aos-70-anos-do-sesi-em-goias
END:VEVENT
BEGIN:VTIMEZONE
TZID:Brazil/East
X-LIC-LOCATION:Brazil/East
BEGIN:STANDARD
DTSTART;VALUE=DATE-TIME:20230225T230000
TZNAME:BRT
TZOFFSETFROM:-0200
TZOFFSETTO:-0300
END:STANDARD
END:VTIMEZONE
END:VCALENDAR
