BEGIN:VCALENDAR
VERSION:2.0
PRODID:-//Plone.org//NONSGML plone.app.event//EN
X-WR-TIMEZONE:Brazil/East
BEGIN:VEVENT
SUMMARY:SESSÃO ESPECIAL EM COMEMORAÇÃO AOS 70 ANOS DA OCB.
DTSTART;TZID=Brazil/East;VALUE=DATE-TIME:20260507T190000
DTEND;TZID=Brazil/East;VALUE=DATE-TIME:20260507T220000
DTSTAMP;VALUE=DATE-TIME:20260421T211754Z
UID:7d9373e2ffaa4917b1eba45eef815e2b@www.goiania.go.leg.br
CONTACT:VEREADOR DENÍCIO TRINDADE
CREATED;VALUE=DATE-TIME:20260401T125504Z
LAST-MODIFIED;VALUE=DATE-TIME:20260401T125515Z
LOCATION:AUDITÓRIO JAIME CÂMARA
URL:https://www.goiania.go.leg.br/sala-de-imprensa/eventos/sessao-especial
 -em-comemoracao-aos-70-anos-da-ocb
END:VEVENT
BEGIN:VTIMEZONE
TZID:Brazil/East
X-LIC-LOCATION:Brazil/East
BEGIN:STANDARD
DTSTART;VALUE=DATE-TIME:20260221T230000
TZNAME:BRT
TZOFFSETFROM:-0200
TZOFFSETTO:-0300
END:STANDARD
END:VTIMEZONE
END:VCALENDAR
