BEGIN:VCALENDAR
VERSION:2.0
PRODID:-//Plone.org//NONSGML plone.app.event//EN
X-WR-TIMEZONE:Brazil/East
BEGIN:VEVENT
SUMMARY:SESSÃO ESPECIAL EM COMEMORAÇÃO AOS 68 ANOS DA ASSOCIAÇÃO DOS 
 SUBTENENTES E SARGENTO DO ESTADO DE GOIÁS - ASSEGO.
DTSTART;TZID=Brazil/East;VALUE=DATE-TIME:20240614T090000
DTEND;TZID=Brazil/East;VALUE=DATE-TIME:20240614T120000
DTSTAMP;VALUE=DATE-TIME:20260423T014408Z
UID:f47498c5a5e14185837d8150abe7aa77@www.goiania.go.leg.br
CONTACT:VEREADOR SARGENTO NOVANDIR
CREATED;VALUE=DATE-TIME:20240528T140804Z
LAST-MODIFIED;VALUE=DATE-TIME:20240528T140825Z
LOCATION:PLENÁRIO TRAJANO GUIMARÃES
URL:https://www.goiania.go.leg.br/sala-de-imprensa/eventos/sessao-especial
 -em-comemoracao-aos-68-anos-da-associacao-dos-subtenentes-e-sargento-do-es
 tado-de-goias-assego
END:VEVENT
BEGIN:VTIMEZONE
TZID:Brazil/East
X-LIC-LOCATION:Brazil/East
BEGIN:STANDARD
DTSTART;VALUE=DATE-TIME:20240217T230000
TZNAME:BRT
TZOFFSETFROM:-0200
TZOFFSETTO:-0300
END:STANDARD
END:VTIMEZONE
END:VCALENDAR
