BEGIN:VCALENDAR
VERSION:2.0
PRODID:-//Plone.org//NONSGML plone.app.event//EN
X-WR-TIMEZONE:Brazil/East
BEGIN:VEVENT
SUMMARY:SESSÃO ESPECIAL EM COMEMORAÇÃO AOS 60 ANOS DO CURSO DE JORNALIS
 MO DA UNIVERSIDADE FEDERAL DE GOIÁS (UFG).
DTSTART;TZID=Brazil/East;VALUE=DATE-TIME:20260525T190000
DTEND;TZID=Brazil/East;VALUE=DATE-TIME:20260525T220000
DTSTAMP;VALUE=DATE-TIME:20260421T211754Z
UID:df2a45801d2e4864b7939ebdc4226f77@www.goiania.go.leg.br
CONTACT:VEREADOR PROFESSOR EDWARD
CREATED;VALUE=DATE-TIME:20260407T214405Z
LAST-MODIFIED;VALUE=DATE-TIME:20260407T214456Z
LOCATION:AUDITÓRIO JAIME CÂMARA
URL:https://www.goiania.go.leg.br/sala-de-imprensa/eventos/sessao-especial
 -em-comemoracao-aos-60-anos-do-curso-de-jornalismo-da-universidade-federal
 -de-goias-ufg
END:VEVENT
BEGIN:VTIMEZONE
TZID:Brazil/East
X-LIC-LOCATION:Brazil/East
BEGIN:STANDARD
DTSTART;VALUE=DATE-TIME:20260221T230000
TZNAME:BRT
TZOFFSETFROM:-0200
TZOFFSETTO:-0300
END:STANDARD
END:VTIMEZONE
END:VCALENDAR
