BEGIN:VCALENDAR
VERSION:2.0
PRODID:-//Plone.org//NONSGML plone.app.event//EN
X-WR-TIMEZONE:Brazil/East
BEGIN:VEVENT
SUMMARY:SESSÃO ESPECIAL EM COMEMORAÇÃO AOS 58 ANOS DA PROFISSÃO DE ADM
 INISTRADOR.
DTSTART;TZID=Brazil/East;VALUE=DATE-TIME:20230905T190000
DTEND;TZID=Brazil/East;VALUE=DATE-TIME:20230905T210000
DTSTAMP;VALUE=DATE-TIME:20260422T075314Z
UID:5b2ead31f1524899b5ce0eb8888def67@www.goiania.go.leg.br
CONTACT:VEREADOR ANSELMO PEREIRA
CREATED;VALUE=DATE-TIME:20230410T211750Z
LAST-MODIFIED;VALUE=DATE-TIME:20230905T144907Z
LOCATION:PLENÁRIO TRAJANO GUIMARÃES
URL:https://www.goiania.go.leg.br/sala-de-imprensa/eventos/sessao-especial
 -em-comemoracao-aos-58-anos-da-profissao-de-administrador
END:VEVENT
BEGIN:VTIMEZONE
TZID:Brazil/East
X-LIC-LOCATION:Brazil/East
BEGIN:STANDARD
DTSTART;VALUE=DATE-TIME:20230225T230000
TZNAME:BRT
TZOFFSETFROM:-0200
TZOFFSETTO:-0300
END:STANDARD
END:VTIMEZONE
END:VCALENDAR
