BEGIN:VCALENDAR
VERSION:2.0
PRODID:-//Plone.org//NONSGML plone.app.event//EN
X-WR-TIMEZONE:Brazil/East
BEGIN:VEVENT
SUMMARY:SESSÃO ESPECIAL EM COMEMORAÇÃO AOS 57 ANOS DO NÚCLEO FEMININO 
 IRMÃ SCHEILLA.
DTSTART;TZID=Brazil/East;VALUE=DATE-TIME:20230228T170000
DTEND;TZID=Brazil/East;VALUE=DATE-TIME:20230228T190000
DTSTAMP;VALUE=DATE-TIME:20260421T085429Z
UID:aba61555cdb44a2b82bb481f83dfdae5@www.goiania.go.leg.br
CONTACT:VEREADOR ANSELMO PEREIRA
CREATED;VALUE=DATE-TIME:20230201T120407Z
LAST-MODIFIED;VALUE=DATE-TIME:20230217T104251Z
LOCATION:PLENÁRIO TRAJANO GUIMARÃES
URL:https://www.goiania.go.leg.br/sala-de-imprensa/eventos/sessao-especial
 -em-comemoracao-aos-57-anos-do-nucleo-feminino-irma-scheilla
END:VEVENT
BEGIN:VTIMEZONE
TZID:Brazil/East
X-LIC-LOCATION:Brazil/East
BEGIN:STANDARD
DTSTART;VALUE=DATE-TIME:20230225T230000
TZNAME:BRT
TZOFFSETFROM:-0200
TZOFFSETTO:-0300
END:STANDARD
END:VTIMEZONE
END:VCALENDAR
