BEGIN:VCALENDAR
VERSION:2.0
PRODID:-//Plone.org//NONSGML plone.app.event//EN
X-WR-TIMEZONE:Brazil/East
BEGIN:VEVENT
SUMMARY:SESSÃO ESPECIAL EM COMEMORAÇÃO AOS 55 ANOS DA PROFISSÇAO DE AD
 MINISTRADOR.
DTSTART;TZID=Brazil/East;VALUE=DATE-TIME:20200909T170000
DTEND;TZID=Brazil/East;VALUE=DATE-TIME:20200909T210000
DTSTAMP;VALUE=DATE-TIME:20260422T075228Z
UID:70f2edbd29bd41f28b68a4f511c20d9a@www.goiania.go.leg.br
CONTACT:VEREADOR ANSELMO PEREIRA
CREATED;VALUE=DATE-TIME:20200824T121456Z
LAST-MODIFIED;VALUE=DATE-TIME:20200824T121503Z
LOCATION:PLENÁRIO TRAJANO GUIMARÃES
URL:https://www.goiania.go.leg.br/sala-de-imprensa/eventos/sessao-especial
 -em-comemoracao-aos-55-anos-da-profisscao-de-administrador
END:VEVENT
BEGIN:VTIMEZONE
TZID:Brazil/East
X-LIC-LOCATION:Brazil/East
BEGIN:STANDARD
DTSTART;VALUE=DATE-TIME:20200215T230000
TZNAME:BRT
TZOFFSETFROM:-0200
TZOFFSETTO:-0300
END:STANDARD
END:VTIMEZONE
END:VCALENDAR
