BEGIN:VCALENDAR
VERSION:2.0
PRODID:-//Plone.org//NONSGML plone.app.event//EN
X-WR-TIMEZONE:Brazil/East
BEGIN:VEVENT
SUMMARY:SESSÃO ESPECIAL EM COMEMORAÇÃO AOS 50 ANOS DO MUSEU DE ARTE DE 
 GOIÂNIA.
DTSTART;TZID=Brazil/East;VALUE=DATE-TIME:20201021T170000
DTEND;TZID=Brazil/East;VALUE=DATE-TIME:20201021T210000
DTSTAMP;VALUE=DATE-TIME:20260421T073124Z
UID:ed4452fcb6914c109450d7e305fe200b@www.goiania.go.leg.br
CONTACT:VEREADOR ANSELMO PEREIRA
CREATED;VALUE=DATE-TIME:20200923T115053Z
LAST-MODIFIED;VALUE=DATE-TIME:20200923T115114Z
LOCATION:PLENÁRIO TRAJANO GUIMARÃES
URL:https://www.goiania.go.leg.br/sala-de-imprensa/eventos/sessao-especial
 -em-comemoracao-aos-50-anos-do-museu-de-arte-de-goiania
END:VEVENT
BEGIN:VTIMEZONE
TZID:Brazil/East
X-LIC-LOCATION:Brazil/East
BEGIN:DAYLIGHT
DTSTART;VALUE=DATE-TIME:20201018T010000
TZNAME:BRST
TZOFFSETFROM:-0300
TZOFFSETTO:-0200
END:DAYLIGHT
END:VTIMEZONE
END:VCALENDAR
