BEGIN:VCALENDAR
VERSION:2.0
PRODID:-//Plone.org//NONSGML plone.app.event//EN
X-WR-TIMEZONE:Brazil/East
BEGIN:VEVENT
SUMMARY:SESSÃO ESPECIAL EM COMEMORAÇÃO AOS 50 ANOS DO CURSO DE RELAÇÕ
 ES PÚBLICAS DA UFG.
DTSTART;TZID=Brazil/East;VALUE=DATE-TIME:20250815T090000
DTEND;TZID=Brazil/East;VALUE=DATE-TIME:20250815T120000
DTSTAMP;VALUE=DATE-TIME:20260422T052906Z
UID:83cceba72fd744b8b7a486511ad34abb@www.goiania.go.leg.br
CONTACT:VEREADOR PROFESSOR EDWARD
CREATED;VALUE=DATE-TIME:20250616T120539Z
LAST-MODIFIED;VALUE=DATE-TIME:20250616T120544Z
LOCATION:PLENÁRIO TRAJANO GUIMARÃES
URL:https://www.goiania.go.leg.br/sala-de-imprensa/eventos/sessao-especial
 -em-comemoracao-aos-50-anos-do-curso-de-relacoes-publicas-da-ufg
END:VEVENT
BEGIN:VTIMEZONE
TZID:Brazil/East
X-LIC-LOCATION:Brazil/East
BEGIN:STANDARD
DTSTART;VALUE=DATE-TIME:20250215T230000
TZNAME:BRT
TZOFFSETFROM:-0200
TZOFFSETTO:-0300
END:STANDARD
END:VTIMEZONE
END:VCALENDAR
