BEGIN:VCALENDAR
VERSION:2.0
PRODID:-//Plone.org//NONSGML plone.app.event//EN
X-WR-TIMEZONE:Brazil/East
BEGIN:VEVENT
SUMMARY:SESSÃO ESPECIAL EM COMEMORAÇÃO AOS 50 ANOS DA COOPERATIVA DOS M
 ÉDICOS ANESTESIOLOGISTAS DE GOIÁS - COOPANEST/GO.
DTSTART;TZID=Brazil/East;VALUE=DATE-TIME:20241206T160000
DTEND;TZID=Brazil/East;VALUE=DATE-TIME:20241206T190000
DTSTAMP;VALUE=DATE-TIME:20260420T144542Z
UID:eada4e01fb0f4574afe123951dbb1938@www.goiania.go.leg.br
CONTACT:VEREADORA AAVA SANTIAGO
CREATED;VALUE=DATE-TIME:20241106T112120Z
LAST-MODIFIED;VALUE=DATE-TIME:20241106T112143Z
LOCATION:PLENÁRIO TRAJANO GUIMARÃES
URL:https://www.goiania.go.leg.br/sala-de-imprensa/eventos/sessao-especial
 -em-comemoracao-aos-50-anos-da-cooperativa-dos-medicos-anestesiologistas-d
 e-goias-coopanest-go
END:VEVENT
BEGIN:VTIMEZONE
TZID:Brazil/East
X-LIC-LOCATION:Brazil/East
BEGIN:DAYLIGHT
DTSTART;VALUE=DATE-TIME:20241020T010000
TZNAME:BRST
TZOFFSETFROM:-0300
TZOFFSETTO:-0200
END:DAYLIGHT
END:VTIMEZONE
END:VCALENDAR
