BEGIN:VCALENDAR
VERSION:2.0
PRODID:-//Plone.org//NONSGML plone.app.event//EN
X-WR-TIMEZONE:Brazil/East
BEGIN:VEVENT
SUMMARY:SESSÃO ESPECIAL EM COMEMORAÇÃO AOS 44 ANOS DO CENTRO LIVRE DE A
 RTES.
DTSTART;TZID=Brazil/East;VALUE=DATE-TIME:20190914T090000
DTEND;TZID=Brazil/East;VALUE=DATE-TIME:20190914T120000
DTSTAMP;VALUE=DATE-TIME:20260424T052639Z
UID:d0602abb0aea43e881a50662b1b851c8@www.goiania.go.leg.br
CONTACT:VEREADOR LÉIA KLEBIA
CREATED;VALUE=DATE-TIME:20190628T114239Z
LAST-MODIFIED;VALUE=DATE-TIME:20190628T114403Z
LOCATION:PLENÁRIO TRAJANO GUIMARÃES
URL:https://www.goiania.go.leg.br/sala-de-imprensa/eventos/sessao-especial
 -em-comemoracao-aos-44-anos-do-centro-livre-de-artes
END:VEVENT
BEGIN:VTIMEZONE
TZID:Brazil/East
X-LIC-LOCATION:Brazil/East
BEGIN:STANDARD
DTSTART;VALUE=DATE-TIME:20190216T230000
TZNAME:BRT
TZOFFSETFROM:-0200
TZOFFSETTO:-0300
END:STANDARD
END:VTIMEZONE
END:VCALENDAR
