BEGIN:VCALENDAR
VERSION:2.0
PRODID:-//Plone.org//NONSGML plone.app.event//EN
X-WR-TIMEZONE:Brazil/East
BEGIN:VEVENT
SUMMARY:SESSÃO ESPECIAL EM COMEMORAÇÃO AOS 40 ANOS DO CONSELHO MUNICIPA
 L DE CULTURA DE GOIÂNIA.
DTSTART;TZID=Brazil/East;VALUE=DATE-TIME:20251103T190000
DTEND;TZID=Brazil/East;VALUE=DATE-TIME:20251103T220000
DTSTAMP;VALUE=DATE-TIME:20260420T095352Z
UID:82a319e6e9f24e7a80049cea7e3e9eb0@www.goiania.go.leg.br
CONTACT:VEREADOR ANSELMO PEREIRA
CREATED;VALUE=DATE-TIME:20251021T112929Z
LAST-MODIFIED;VALUE=DATE-TIME:20251021T112953Z
LOCATION:AUDITORIO JAIME CÂMARA
URL:https://www.goiania.go.leg.br/sala-de-imprensa/eventos/sessao-especial
 -em-comemoracao-aos-40-anos-do-conselho-municipal-de-cultura-de-goiania
END:VEVENT
BEGIN:VTIMEZONE
TZID:Brazil/East
X-LIC-LOCATION:Brazil/East
BEGIN:DAYLIGHT
DTSTART;VALUE=DATE-TIME:20251019T010000
TZNAME:BRST
TZOFFSETFROM:-0300
TZOFFSETTO:-0200
END:DAYLIGHT
END:VTIMEZONE
END:VCALENDAR
