BEGIN:VCALENDAR
VERSION:2.0
PRODID:-//Plone.org//NONSGML plone.app.event//EN
X-WR-TIMEZONE:Brazil/East
BEGIN:VEVENT
SUMMARY:SESSÃO ESPECIAL EM COMEMORAÇÃO AOS 40 ANOS DE INCLUSÃO NA POL
 ÍCIA MILITAR DO ESTADO DE GOIÁS DA 9ª TURMA DE SOLDADOS DO 7º BATALHÃ
 O DA PM/GO.
DTSTART;TZID=Brazil/East;VALUE=DATE-TIME:20260310T190000
DTEND;TZID=Brazil/East;VALUE=DATE-TIME:20260310T220000
DTSTAMP;VALUE=DATE-TIME:20260419T174701Z
UID:d309c2fbaa43457d8dde776c7e7d7bb3@www.goiania.go.leg.br
CONTACT:VEREADOR CORONEL URZÊDA
CREATED;VALUE=DATE-TIME:20260223T143032Z
LAST-MODIFIED;VALUE=DATE-TIME:20260223T143048Z
LOCATION:PLENÁRIO TRAJANO GUIMARÃES
URL:https://www.goiania.go.leg.br/sala-de-imprensa/eventos/sessao-especial
 -em-comemoracao-aos-40-anos-de-inclusao-na-policia-militar-do-estado-de-go
 ias-da-9a-turma-de-soldados-do-7o-batalhao-da-pm-go
END:VEVENT
BEGIN:VTIMEZONE
TZID:Brazil/East
X-LIC-LOCATION:Brazil/East
BEGIN:STANDARD
DTSTART;VALUE=DATE-TIME:20260221T230000
TZNAME:BRT
TZOFFSETFROM:-0200
TZOFFSETTO:-0300
END:STANDARD
END:VTIMEZONE
END:VCALENDAR
